BEGIN:VCALENDAR
VERSION:2.0
PRODID:-//Kiltatalo - ECPv5.7.0//NONSGML v1.0//EN
CALSCALE:GREGORIAN
METHOD:PUBLISH
X-WR-CALNAME:Kiltatalo
X-ORIGINAL-URL:https://www.kiltatalo.fi
X-WR-CALDESC:Tapahtumat Kiltatalo
BEGIN:VTIMEZONE
TZID:Europe/Helsinki
BEGIN:DAYLIGHT
TZOFFSETFROM:+0200
TZOFFSETTO:+0300
TZNAME:EEST
DTSTART:20260329T010000
END:DAYLIGHT
BEGIN:STANDARD
TZOFFSETFROM:+0300
TZOFFSETTO:+0200
TZNAME:EET
DTSTART:20261025T010000
END:STANDARD
END:VTIMEZONE
BEGIN:VEVENT
DTSTART;VALUE=DATE:20260726
DTEND;VALUE=DATE:20260727
DTSTAMP:20260422T132552
CREATED:20250728T113010Z
LAST-MODIFIED:20260210T084729Z
UID:1475-1785024000-1785110399@www.kiltatalo.fi
SUMMARY:yksityisvaraus
DESCRIPTION:yksityisvaraus
URL:https://www.kiltatalo.fi/event/alustava-varaus-11/
LOCATION:Kiltatalo\, Solasaarentie 102A\, Vaasa\, 65280\, Suomi
END:VEVENT
END:VCALENDAR