BEGIN:VCALENDAR
VERSION:2.0
PRODID:-//Kiltatalo - ECPv5.7.0//NONSGML v1.0//EN
CALSCALE:GREGORIAN
METHOD:PUBLISH
X-WR-CALNAME:Kiltatalo
X-ORIGINAL-URL:https://www.kiltatalo.fi
X-WR-CALDESC:Tapahtumat Kiltatalo
BEGIN:VTIMEZONE
TZID:Europe/Helsinki
BEGIN:DAYLIGHT
TZOFFSETFROM:+0200
TZOFFSETTO:+0300
TZNAME:EEST
DTSTART:20250330T010000
END:DAYLIGHT
BEGIN:STANDARD
TZOFFSETFROM:+0300
TZOFFSETTO:+0200
TZNAME:EET
DTSTART:20251026T010000
END:STANDARD
END:VTIMEZONE
BEGIN:VEVENT
DTSTART;VALUE=DATE:20250401
DTEND;VALUE=DATE:20250402
DTSTAMP:20260422T120545
CREATED:20241113T064033Z
LAST-MODIFIED:20241113T064033Z
UID:1344-1743465600-1743551999@www.kiltatalo.fi
SUMMARY:Talvisulku 16.12.2024 - 8.4.2025
DESCRIPTION:Talvisulku 16.12.2024 – 8.4.2025
URL:https://www.kiltatalo.fi/event/talvisulku-16-12-2024-8-4-2025-5/
LOCATION:Kiltatalo\, Solasaarentie 102A\, Vaasa\, 65280\, Suomi
ORGANIZER;CN="Kiltatalo":MAILTO:vaasankiltatalo@gmail.com
END:VEVENT
END:VCALENDAR